BEGIN:VCALENDAR
VERSION:2.0
PRODID:-//Visit Murlo//NONSGML kigkonsult.se iCalcreator 2.41.92//
CALSCALE:GREGORIAN
METHOD:PUBLISH
UID:32663230-3636-4561-a536-353661656439
X-WR-CALNAME:iCagenda
X-WR-CALDESC:Event Management Extension for Joomla!
X-WR-RELCALID:3E26604A-50F4-4449-8B3E-E4F4932D05B5
X-WR-TIMEZONE:UTC
BEGIN:VTIMEZONE
TZID:UTC
END:VTIMEZONE
BEGIN:VEVENT
UID:36353838-3663-4663-b963-663737643163
DTSTAMP:20260424T054616Z
CATEGORIES:Spettacolo | Entertainment
CLASS:PUBLIC
DESCRIPTION;ALTREP="CID:<FFFF__=0ABBE548DFE235B58f9e8a93d@coffeebean.com>":
 Trona finalmente la bellissima manifestazione del Carnevale di Vescovado\,
  con l'edizione 2023. Una grande festa per grandi e piccini con carri alle
 gorici e mascherate a terra. Una festa che viene realizzata dalle associaz
 ioni del territorio con il patrocinio del Comune di Murlo e della Proloco 
 di Murlo. La festa per è tutti\, per il giorno 19 febbraio. Vi aspettiamo 
 davvero numerosi come tutti gli anni. Riprendiamo facendo una grande festa
  per tutti.&nbsp\;\nLe notizie sempre aggiornate le trovate qui:\nhttps://
 www.facebook.com/CarnevaleVescovado\nhttps://www.facebook.com/prolocomurlo
 \nVi aspettiamo.\n&nbsp\;
DTSTART:20230219T000100Z
DTEND:20230219T235900Z
GEO:+43.168453;+11.3913
LOCATION:Vescovado di Murlo.
ORGANIZER;CN=:mailto:info@prolocomurlo.it
SEQUENCE:1
SUMMARY:Carnevale di Vescovado 2023
TRANSP:OPAQUE
URL:https://www.visitmurlo.it/it/eventi/archivio-eventi/carnevale-di-vescov
 ado-2023/2023-02-19-00-01
END:VEVENT
END:VCALENDAR
