BEGIN:VCALENDAR
VERSION:2.0
PRODID:-//Visit Murlo//NONSGML kigkonsult.se iCalcreator 2.41.92//
CALSCALE:GREGORIAN
METHOD:PUBLISH
UID:66373537-3231-4461-b264-336433663166
X-WR-CALNAME:iCagenda
X-WR-CALDESC:Event Management Extension for Joomla!
X-WR-RELCALID:3E26604A-50F4-4449-8B3E-E4F4932D05B5
X-WR-TIMEZONE:UTC
BEGIN:VTIMEZONE
TZID:UTC
END:VTIMEZONE
BEGIN:VEVENT
UID:35623230-3031-4833-b739-656632623133
DTSTAMP:20260420T124828Z
CATEGORIES:Festa in Collina
CLASS:PUBLIC
DESCRIPTION;ALTREP="CID:<FFFF__=0ABBE548DFE235B58f9e8a93d@coffeebean.com>":
 Sorba\, nome un po' strano e senz'altro atipico per una Associazione Sport
 iva\, ma con motivazioni storiche cinquantenarie.\nSe fin dal 1200\, infat
 ti\, come attesta lo storico senese Sigismondo Tizio nei suoi manoscritti 
 ospitati nella Biblioteca degli Intronati di Siena\, Casciano\, al tempo p
 roprietà di una non meglio precisata 'nobile contessa di Casciano' e dopo 
 la morte di costei avvenuta nel 1252 'donazione delle monache benedettine 
 di S. Regina' era soprattutto noto per 'CASSIANO DELLE BELLE DONNE' in vir
 tù della dolce e suadente femminilità 'delle sue spose e ragazze'\; nella 
 Bolla emanata da Papa Pio II° nell'anno 1463 che reintegrava il territorio
  di Casciano nel feudo dei Vescovi di Siena\, si codificavano 'censi et li
 velli in natura\, entitate varia\, per la sorbaia gente'. Ad eliminare eve
 ntuali\, postume perplessità di interpretazione\, il nostro Sigismondo Tiz
 io si preoccupava successivamente di chiarire al lettore che 'sorbai chiam
 avansi i laboriosi et onesti homini dello loco' a cui era affidata la colt
 ivazione delle terre 'site sul poggio in fronte al Macereto' ed in cui le 
 piante di sorbo prevalevano sulle querci\, le viti\, i lecci ed i castagni
 .\nNessun dubbio\, quindi\, sulla derivazione da 'Sorbo' della originaria 
 denominazione dei nostri precursori e non è certamente un caso se nella Ch
 iesa di S.S. Giusto e Clemente di Casciano si conserva tuttora un Crocifis
 so della fine del 1300 - naturalmente in legno di sorbo - dietro il quale 
 si snoda ogni Venerdì Santo per le vie di Casciano una 'Via Crucis' solenn
 e e partecipata.Ciò premesso\, l'aver chiamato Sorba la nostra Associazion
 e Sportiva\, non deve sembrare tanto strano. Si è semplicemente inteso ric
 ollegarci ad un momento certo di sintesi storica\, ad un unico denominator
 e comune\, in cui tutti\, se vogliono\, possono riconoscersi ed identifica
 rsi al di là degli individualismi e dei particolarismi. Perché la Festa in
  Collina? La spiegazione è quanto mai semplice ed immediata ed ha una sua 
 logica rispondenza in tempi e motivazioni più o meno recenti. Lo Sport ha 
 sempre avuto a Casciano e lo ha tuttora\, uno spazio di rilievo ed una not
 evole considerazione e partecipazione. All'inizio degli anni Settanta l'un
 ico limite\, purtroppo\, all'effettuazione di una normale pratica sportiva
  era rappresentato dalla mancanza di un impianto funzionale\, non potendo 
 considerare tale il vecchio campo 'G. Zingoni'\, attuale complesso sportiv
 o polivalente\, teatro di tante battaglie\, ma privo delle strutture e dei
  requisiti tecnici essenziali.Come reperire i fondi\, sicuramente consiste
 nti e certamente non supportabili soltanto con il volontariato\, anche se 
 consolidato\, per concretizzare annosi progetti parlati? E da tale interro
 gativo che nell'inverno del 1973\, preso atto della mancanza\, anche in pr
 ospettiva\, di specifici interventi pubblici nel settore\, matura la stori
 ca decisione del Consiglio della Sorba di organizzare una manifestazione p
 opolare a carattere gastronomico\, culturale e ricreativo con i cui proven
 ti rendere possibile la realizzazione di quell'impianto che a decorrere da
 l 1978 ha esaltato i colori bianco-rossi.Nasce così nel maggio 1973 la pri
 ma versione della FESTA IN COLLINA\, giunta quest'anno alla sua 50ª edizio
 ne e che ha accumunato alle iniziali motivazioni sportive\, tuttora priori
 tariamente presenti\, specifiche valenze di valorizzazione ambientale e ca
 ratterizzazioni di cultura popolare saldamente ancorate alle tradizioni lo
 cali.Non è il caso di stare qui ad evidenziare gli aspetti e le risultanze
  di una Festa di cui la stampa e la critica si sono a lungo occupate ed al
 la cui crescita partecipa con entusiasmo vivo e spontaneo tutta la popolaz
 ione a cui la Sorba è immensamente grata per il prezioso ed indispensabile
  impegno profuso nella finalizzazione del comune obiettivo.A tutti e con l
 a simpatia di sempre\, rinnoviamo un cordialissimo invito a Casciano nei g
 iorni 7-8-9-10 maggio per trascorrervi un fine settimana sereno in un paes
 e tranquillo a misura d'uomo\, ove la cordialità è di casa insieme alla bu
 ona cucina\, a stretto contatto con un ambiente stupendo calato tra il ver
 de ondulare dei campi e dei boschi rigogliosi\, per fare insieme a noi la 
 FESTA IN COLLINA. Vi aspettiamo con il consueto calore e simpatia. Sarà\, 
 di nuovo\, 'Festa' davvero!
DTSTART:20260507T000000Z
DTEND:20260510T000000Z
GEO:+43.161987;+11.325431
LOCATION:Casciano di Murlo - Piazza Generale Carlo Alberto dalla Chiesa\, C
 asciano\, Murlo\, Siena\, Toscana 53016\, Italia
ORGANIZER;CN=:mailto:direttore@asdlasorba.it
SEQUENCE:1
SUMMARY:Festa in Collina 2026
TRANSP:OPAQUE
URL:https://www.visitmurlo.it/it/eventi/prossimi-eventi/festa-in-collina-20
 26
END:VEVENT
END:VCALENDAR
